BEGIN:VCALENDAR
VERSION:2.0
PRODID:-// - ECPv6.15.18//NONSGML v1.0//EN
CALSCALE:GREGORIAN
METHOD:PUBLISH
X-ORIGINAL-URL:https://klm.wpgstage.com
X-WR-CALDESC:Events for 
REFRESH-INTERVAL;VALUE=DURATION:PT1H
X-Robots-Tag:noindex
X-PUBLISHED-TTL:PT1H
BEGIN:VTIMEZONE
TZID:UTC
BEGIN:STANDARD
TZOFFSETFROM:+0000
TZOFFSETTO:+0000
TZNAME:UTC
DTSTART:20190101T000000
END:STANDARD
END:VTIMEZONE
BEGIN:VEVENT
DTSTART;VALUE=DATE:20200212
DTEND;VALUE=DATE:20200214
DTSTAMP:20260424T172543
CREATED:20191018T122843Z
LAST-MODIFIED:20200113T142731Z
UID:9737-1581465600-1581638399@klm.wpgstage.com
SUMMARY:Enabling Change MasterClass
DESCRIPTION:Enabling Change will enhance your decision-making power and enable you to accelerate both adoption of current change and readiness for what’s next. \nDOWNLOAD MASTERCLASS SUMMARY \nLAUNCH PROMO\nDay 1 & 2 – R 7 950.00 per delegate.\nDay 3 (Optional) – R 3 600.00 per delegate.\nAll 3 Days – R 9 850.00 per delegate.\nPlease note that it is possible to make group bookings\, in which case dates can be agreed based on corporate needs. \nENQUIRY FORM\nPlease complete the enquiry form below\, and we will get back to you to confirm your booking \n\n\n  \n\n\n\n\n	\n	 \n\n\n	\n	 \n\n\n	\n	 \n\n\n	\n	 \n\n\n	\n	 \n\n\n	\n	 \n\nPlease leave this field empty.
URL:https://klm.wpgstage.com/event/enabling-change-masterclass/
LOCATION:Knowledge X-Change Centre of Leadership Excellence\, 20 Skeen Blvd\, Johannesburg\, Germiston\, 2008\, South Africa
ORGANIZER;CN="KLM Empowered":MAILTO:events@klmempowered.com
END:VEVENT
BEGIN:VEVENT
DTSTART;VALUE=DATE:20200206
DTEND;VALUE=DATE:20200208
DTSTAMP:20260424T172543
CREATED:20191018T122153Z
LAST-MODIFIED:20200113T142922Z
UID:9733-1580947200-1581119999@klm.wpgstage.com
SUMMARY:Sculpting the Future MasterClass
DESCRIPTION:Sculpting the Future will enable you to adopt and apply new approaches to innovation so that you are able to embrace the challenges of disruptive technology and drive growth and value creation for the future. \nDOWNLOAD MASTERCLASS SUMMARY \nLAUNCH PROMO\nDay 1 & 2 – R 7 950.00 per delegate.\nDay 3 (Optional) – R 3 600.00 per delegate.\nAll 3 Days – R 9 850.00 per delegate.\nPlease note that it is possible to make group bookings\, in which case dates can be agreed based on corporate needs. \nENQUIRY FORM\nPlease complete the enquiry form below\, and we will get back to you to confirm your booking \n\n\n  \n\n\n\n\n	\n	 \n\n\n	\n	 \n\n\n	\n	 \n\n\n	\n	 \n\n\n	\n	 \n\n\n	\n	 \n\nPlease leave this field empty.
URL:https://klm.wpgstage.com/event/masterclass-sculpting-the-future/
LOCATION:Knowledge X-Change Centre of Leadership Excellence\, 20 Skeen Blvd\, Johannesburg\, Germiston\, 2008\, South Africa
ORGANIZER;CN="KLM Empowered":MAILTO:events@klmempowered.com
END:VEVENT
BEGIN:VEVENT
DTSTART;VALUE=DATE:20200203
DTEND;VALUE=DATE:20200205
DTSTAMP:20260424T172543
CREATED:20191018T150554Z
LAST-MODIFIED:20200113T142633Z
UID:9753-1580688000-1580860799@klm.wpgstage.com
SUMMARY:Project Management MasterClass Advanced
DESCRIPTION:The Project Management MasterClass (Advanced) will enable you work with relevant stakeholders to scope\, plan\, implement and evaluate a work-based project using relevant tools and techniques to represent and measure key performance parameters. \nDOWNLOAD MASTERCLASS SUMMARY \nLAUNCH PROMO\nDay 1 – 3 – R 8 400.00 per delegate.\nDay 4 (Optional) – R 3 600.00 per delegate.\nAll 4 Days – R 10 850.00 per delegate.\nPlease note that it is possible to make group bookings\, in which case dates can be agreed based on corporate needs. \nENQUIRY FORM\nPlease complete the enquiry form below\, and we will get back to you to confirm your booking. \n\n\n  \n\n\n\n\n	\n	 \n\n\n	\n	 \n\n\n	\n	 \n\n\n	\n	 \n\n\n	\n	 \n\n\n	\n	 \n\nPlease leave this field empty.\n \n\n	\n	 \n\n\n\n\n 
URL:https://klm.wpgstage.com/event/project-management-masterclass-advanced/
LOCATION:Knowledge X-Change Centre of Leadership Excellence\, 20 Skeen Blvd\, Johannesburg\, Germiston\, 2008\, South Africa
ORGANIZER;CN="KLM Empowered":MAILTO:events@klmempowered.com
END:VEVENT
BEGIN:VEVENT
DTSTART;VALUE=DATE:20200129
DTEND;VALUE=DATE:20200131
DTSTAMP:20260424T172543
CREATED:20191018T121206Z
LAST-MODIFIED:20200113T143006Z
UID:9726-1580256000-1580428799@klm.wpgstage.com
SUMMARY:The Agile Leader MasterClass
DESCRIPTION:The Agile Leader will provide you with a comprehensive set of skills and practices to build your learning agility\, resilience\, and adaptability. \nDOWNLOAD MASTERCLASS SUMMARY \nLAUNCH PROMO\nDay 1 & 2 – R 7 950.00 per delegate.\nDay 3 (Optional) – R 3 600.00 per delegate.\nAll 3 Days – R 9 850.00 per delegate.\nPlease note that it is possible to make group bookings\, in which case dates can be agreed based on corporate needs. \nENQUIRY FORM\nPlease complete the enquiry form below\, and we will get back to you to confirm your booking \n\n\n  \n\n\n\n\n	\n	 \n\n\n	\n	 \n\n\n	\n	 \n\n\n	\n	 \n\n\n	\n	 \n\n\n	\n	 \n\nPlease leave this field empty.
URL:https://klm.wpgstage.com/event/masterclass-the-agile-leader/
LOCATION:Knowledge X-Change Centre of Leadership Excellence\, 20 Skeen Blvd\, Johannesburg\, Germiston\, 2008\, South Africa
ORGANIZER;CN="KLM Empowered":MAILTO:events@klmempowered.com
END:VEVENT
BEGIN:VEVENT
DTSTART;VALUE=DATE:20200122
DTEND;VALUE=DATE:20200124
DTSTAMP:20260424T172543
CREATED:20191018T100023Z
LAST-MODIFIED:20200113T142601Z
UID:9708-1579651200-1579823999@klm.wpgstage.com
SUMMARY:The Digital Leader MasterClass
DESCRIPTION:Do you have what it takes to lead in the digital age? The Digital Leader will expose you to the technology trends defining the future and equip you with the capabilities you need to be an effective leader in a time of perpetual change and disruption. \nDOWNLOAD MASTERCLASS SUMMARY \nLAUNCH PROMO\nDay 1 & 2 – R 7 950.00 per delegate.\nDay 3 (Optional) – R 3 600.00 per delegate.\nAll 3 Days – R 9 850.00 per delegate.\nPlease note that it is possible to make group bookings\, in which case dates can be agreed based on corporate needs. \nENQUIRY FORM\nPlease complete the enquiry form below\, and we will get back to you to confirm your booking\n \n\n\n  \n\n\n\n\n	\n	 \n\n\n	\n	 \n\n\n	\n	 \n\n\n	\n	 \n\n\n	\n	 \n\n\n	\n	 \n\nPlease leave this field empty.
URL:https://klm.wpgstage.com/event/masterclass-the-digital-leader/
LOCATION:Knowledge X-Change Centre of Leadership Excellence\, 20 Skeen Blvd\, Johannesburg\, Germiston\, 2008\, South Africa
ORGANIZER;CN="KLM Empowered":MAILTO:events@klmempowered.com
END:VEVENT
END:VCALENDAR